BEGIN:VCALENDAR
VERSION:2.0
PRODID:-//WHITEFORD PARENT SUPPORT - ECPv6.15.20//NONSGML v1.0//EN
CALSCALE:GREGORIAN
METHOD:PUBLISH
X-ORIGINAL-URL:https://www.whiteford.org
X-WR-CALDESC:Events for WHITEFORD PARENT SUPPORT
REFRESH-INTERVAL;VALUE=DURATION:PT1H
X-Robots-Tag:noindex
X-PUBLISHED-TTL:PT1H
BEGIN:VTIMEZONE
TZID:UTC
BEGIN:STANDARD
TZOFFSETFROM:+0000
TZOFFSETTO:+0000
TZNAME:UTC
DTSTART:20220101T000000
END:STANDARD
END:VTIMEZONE
BEGIN:VEVENT
DTSTART;TZID=UTC:20230420T180000
DTEND;TZID=UTC:20230420T193000
DTSTAMP:20260423T093613
CREATED:20200716T203837Z
LAST-MODIFIED:20230317T141524Z
UID:8860-1682013600-1682019000@www.whiteford.org
SUMMARY:Whiteford Parent Support Workshop- Spring 2023
DESCRIPTION:Parent Support Workshop-Spring 2023\n4-90 minute Sessions\nWho: Parents of high needs or neurodiverse children\nWhat: 4 week journey through connection\, acceptance\, grief\, self-compassion and self-care. Learn to hold yourself and find steadiness on a challenging journey.\nWhen: Thursday Evenings April 20\, April 27\, May 4\, May 11 2023\nTime: 6-7:30 PM\nWhere: 2355 Canyon Blvd. Suite 100\nCost: $350.00 (total-4 sessions)\n \nRegister by scanning QR Code or clicking here.\n 
URL:https://www.whiteford.org/event/whiteford-first-event-session-one/
LOCATION:Parent Support Workshop\, 2355 Canyon Blvd. Suite 100\, Boulder\, CO\, 10118\, United States
CATEGORIES:Workshop
ATTACH;FMTTYPE=image/png:https://www.whiteford.org/wp-content/uploads/2023/03/Whiteford-Parent-Flyer-2.png
ORGANIZER;CN="Dr. Natalie Whiteford":MAILTO:natalie@whiteford.org
END:VEVENT
END:VCALENDAR